BEGIN:VCALENDAR
VERSION:2.0
PRODID:-//Realschule Hackenbroich - ECPv6.15.17.1//NONSGML v1.0//EN
CALSCALE:GREGORIAN
METHOD:PUBLISH
X-ORIGINAL-URL:https://www.realschule-hackenbroich.de/wp
X-WR-CALDESC:Termine für Realschule Hackenbroich
REFRESH-INTERVAL;VALUE=DURATION:PT1H
X-Robots-Tag:noindex
X-PUBLISHED-TTL:PT1H
BEGIN:VTIMEZONE
TZID:Europe/Berlin
BEGIN:DAYLIGHT
TZOFFSETFROM:+0100
TZOFFSETTO:+0200
TZNAME:CEST
DTSTART:20250330T010000
END:DAYLIGHT
BEGIN:STANDARD
TZOFFSETFROM:+0200
TZOFFSETTO:+0100
TZNAME:CET
DTSTART:20251026T010000
END:STANDARD
BEGIN:DAYLIGHT
TZOFFSETFROM:+0100
TZOFFSETTO:+0200
TZNAME:CEST
DTSTART:20260329T010000
END:DAYLIGHT
BEGIN:STANDARD
TZOFFSETFROM:+0200
TZOFFSETTO:+0100
TZNAME:CET
DTSTART:20261025T010000
END:STANDARD
BEGIN:DAYLIGHT
TZOFFSETFROM:+0100
TZOFFSETTO:+0200
TZNAME:CEST
DTSTART:20270328T010000
END:DAYLIGHT
BEGIN:STANDARD
TZOFFSETFROM:+0200
TZOFFSETTO:+0100
TZNAME:CET
DTSTART:20271031T010000
END:STANDARD
END:VTIMEZONE
BEGIN:VEVENT
DTSTART;VALUE=DATE:20260629
DTEND;VALUE=DATE:20260702
DTSTAMP:20260425T182954
CREATED:20250827T185541Z
LAST-MODIFIED:20250827T185541Z
UID:18330-1782691200-1782950399@www.realschule-hackenbroich.de
SUMMARY:06er-Klassenfahrten
DESCRIPTION:
URL:https://www.realschule-hackenbroich.de/wp/termin/06er-klassenfahrten/
CATEGORIES:Schulleben
END:VEVENT
BEGIN:VEVENT
DTSTART;VALUE=DATE:20260706
DTEND;VALUE=DATE:20260707
DTSTAMP:20260425T182954
CREATED:20250827T185628Z
LAST-MODIFIED:20250827T185628Z
UID:18332-1783296000-1783382399@www.realschule-hackenbroich.de
SUMMARY:Zeugniskonferenzen für die Klassen 05 bis 09/ Studientag für die SuS
DESCRIPTION:
URL:https://www.realschule-hackenbroich.de/wp/termin/zeugniskonferenzen-fuer-die-klassen-05-bis-09-studientag-fuer-die-sus/
CATEGORIES:Offizielles
END:VEVENT
BEGIN:VEVENT
DTSTART;VALUE=DATE:20260710
DTEND;VALUE=DATE:20260711
DTSTAMP:20260425T182954
CREATED:20250827T185701Z
LAST-MODIFIED:20250827T185701Z
UID:18334-1783641600-1783727999@www.realschule-hackenbroich.de
SUMMARY:Feierliche Zeugnisübergabe für die 10er-SuS und alle Lehrkräfte/ Studientag für die 05er bis 09er
DESCRIPTION:
URL:https://www.realschule-hackenbroich.de/wp/termin/feierliche-zeugnisuebergabe-fuer-die-10er-sus-und-alle-lehrkraefte-studientag-fuer-die-05er-bis-09er/
CATEGORIES:Offizielles
END:VEVENT
BEGIN:VEVENT
DTSTART;VALUE=DATE:20260715
DTEND;VALUE=DATE:20260716
DTSTAMP:20260425T182954
CREATED:20250827T185728Z
LAST-MODIFIED:20250827T185728Z
UID:18336-1784073600-1784159999@www.realschule-hackenbroich.de
SUMMARY:Wandertag für die Klassen 05 bis 09
DESCRIPTION:
URL:https://www.realschule-hackenbroich.de/wp/termin/wandertag-fuer-die-klassen-05-bis-09/
CATEGORIES:Schulleben
END:VEVENT
BEGIN:VEVENT
DTSTART;TZID=Europe/Berlin:20260717T110000
DTEND;TZID=Europe/Berlin:20260717T113000
DTSTAMP:20260425T182954
CREATED:20250827T185804Z
LAST-MODIFIED:20250827T185804Z
UID:18338-1784286000-1784287800@www.realschule-hackenbroich.de
SUMMARY:Zeugnisse für die Klassen 05 bis 09/ Ende des zweiten Halbjahres
DESCRIPTION:
URL:https://www.realschule-hackenbroich.de/wp/termin/zeugnisse-fuer-die-klassen-05-bis-09-ende-des-zweiten-halbjahres/
CATEGORIES:Offizielles
END:VEVENT
BEGIN:VEVENT
DTSTART;VALUE=DATE:20260720
DTEND;VALUE=DATE:20260902
DTSTAMP:20260425T182954
CREATED:20250827T185906Z
LAST-MODIFIED:20250830T115823Z
UID:18340-1784505600-1788307199@www.realschule-hackenbroich.de
SUMMARY:Sommerferien
DESCRIPTION:
URL:https://www.realschule-hackenbroich.de/wp/termin/sommerferien/
CATEGORIES:Ferien
END:VEVENT
END:VCALENDAR